BEGIN:VCALENDAR
VERSION:2.0
PRODID:-//wp-events-plugin.com//7.2.3.1//EN
TZID:America/Los_Angeles
X-WR-TIMEZONE:America/Los_Angeles
BEGIN:VEVENT
UID:361@lternet.edu
DTSTART;TZID=America/Los_Angeles:20260424T120000
DTEND;TZID=America/Los_Angeles:20260424T131500
DTSTAMP:20260415T201114Z
URL:https://lternet.edu/events/flash-talk-friday/
SUMMARY:Flash Talk Friday
DESCRIPTION:Everyone is encouraged to join us on April 24th for flash talks
  from graduate students across the LTER network! This event will be a grea
 t opportunity to learn more about exciting research happening at other sit
 es\, make connections\, and build community.
ATTACH;FMTTYPE=image/jpeg:https://lternet.edu/wp-content/uploads/noun-pres
 entation-6827588-09A7C9.svg
CATEGORIES:Early Career
LOCATION:https://ucsb.zoom.us/meeting/register/jjjR3UitSmaB1EcFB99hXg
END:VEVENT
BEGIN:VTIMEZONE
TZID:America/Los_Angeles
X-LIC-LOCATION:America/Los_Angeles
BEGIN:DAYLIGHT
DTSTART:20260308T030000
TZOFFSETFROM:-0800
TZOFFSETTO:-0700
TZNAME:PDT
END:DAYLIGHT
END:VTIMEZONE
END:VCALENDAR