BEGIN:VCALENDAR
VERSION:2.0
PRODID:-//wp-events-plugin.com//7.2.3.1//EN
TZID:America/Los_Angeles
X-WR-TIMEZONE:America/Los_Angeles
BEGIN:VEVENT
UID:319@lternet.edu
DTSTART;TZID=America/Los_Angeles:20251013T120000
DTEND;TZID=America/Los_Angeles:20271011T130000
DTSTAMP:20260316T174618Z
URL:https://lternet.edu/events/information-management-virtual-water-cooler
 /
SUMMARY:Information Management Virtual Water Cooler
DESCRIPTION:The LTER Information Managers meet monthly to share resources\,
  make plans and work on projects together. For more information about the 
 current activities of the LTER IM Committee\, please visit the committee's
  web page. For information on IM practices and policies\, see the LTER IM 
 Manual.\n\nVWC Notes and recordings (members only)\n\n&nbsp\;
CATEGORIES:Committee Meetings
LOCATION:https://docs.google.com/document/d/1b9LULK0QdYx0F-6SBL1ez8orlYyRH_
 O1QpIJHRgW5SA/edit?tab=t.0
END:VEVENT
BEGIN:VTIMEZONE
TZID:America/Los_Angeles
X-LIC-LOCATION:America/Los_Angeles
BEGIN:DAYLIGHT
DTSTART:20250309T030000
TZOFFSETFROM:-0800
TZOFFSETTO:-0700
TZNAME:PDT
END:DAYLIGHT
BEGIN:STANDARD
DTSTART:20251102T010000
TZOFFSETFROM:-0700
TZOFFSETTO:-0800
TZNAME:PST
END:STANDARD
BEGIN:DAYLIGHT
DTSTART:20260308T030000
TZOFFSETFROM:-0800
TZOFFSETTO:-0700
TZNAME:PDT
END:DAYLIGHT
BEGIN:STANDARD
DTSTART:20261101T010000
TZOFFSETFROM:-0700
TZOFFSETTO:-0800
TZNAME:PST
END:STANDARD
BEGIN:DAYLIGHT
DTSTART:20270314T030000
TZOFFSETFROM:-0800
TZOFFSETTO:-0700
TZNAME:PDT
END:DAYLIGHT
END:VTIMEZONE
END:VCALENDAR