BEGIN:VCALENDAR
VERSION:2.0
PRODID:-//wp-events-plugin.com//7.2.3.1//EN
TZID:America/Los_Angeles
X-WR-TIMEZONE:America/Los_Angeles
BEGIN:VEVENT
UID:192@lternet.edu
DTSTART;TZID=America/Los_Angeles:20250122T090000
DTEND;TZID=America/Los_Angeles:20250122T100000
DTSTAMP:20250103T000613Z
URL:https://lternet.edu/events/lter-community-call-2025-1/
SUMMARY:Travel and Synthesis Opportunities: LTER Community Call
DESCRIPTION:Learn about two new funding opportunities intended to spark and
  facilitate collaboration among LTER sites and between LTER and the broade
 r ecological research community: 2025 synthesis RFP and Site Exchange Fell
 owships.
CATEGORIES:Community Calls
LOCATION:https://ucsb.zoom.us/meeting/register/tErb74SzSWqIqTFFee8Msg
END:VEVENT
BEGIN:VTIMEZONE
TZID:America/Los_Angeles
X-LIC-LOCATION:America/Los_Angeles
BEGIN:STANDARD
DTSTART:20241103T010000
TZOFFSETFROM:-0700
TZOFFSETTO:-0800
TZNAME:PST
END:STANDARD
END:VTIMEZONE
END:VCALENDAR