BEGIN:VCALENDAR
VERSION:2.0
PRODID:-//wp-events-plugin.com//7.2.3.1//EN
TZID:America/Los_Angeles
X-WR-TIMEZONE:America/Los_Angeles
BEGIN:VEVENT
UID:408@lternet.edu
DTSTART;TZID=America/Los_Angeles:20250319T110000
DTEND;TZID=America/Los_Angeles:20270317T120000
DTSTAMP:20260311T190441Z
URL:https://lternet.edu/events/lter-grad-reps/
SUMMARY:LTER Grad Reps
DESCRIPTION:The LTER Graduate Student Representatives meet on the third Wed
 nesday of each month at 11 a.m. Pacific Time (2 p.m. ET). Graduate student
  projects center around building community across the LTER Network and exp
 anding career and networking opportunities for early career professionals.
 \n\nShared Google Drive (LTER Grad reps may request access from a google-a
 ssociated email account)
CATEGORIES:Committee Meetings
LOCATION:https://www.google.com/url?q=https://drive.google.com/drive/u/0/fo
 lders/0AAOz6hCGPM8XUk9PVA&sa=D&source=calendar&ust=1773503777292313&usg=AO
 vVaw2jKI5WF6Zs5YCyAJxRUhLu
END:VEVENT
BEGIN:VTIMEZONE
TZID:America/Los_Angeles
X-LIC-LOCATION:America/Los_Angeles
BEGIN:DAYLIGHT
DTSTART:20250309T030000
TZOFFSETFROM:-0800
TZOFFSETTO:-0700
TZNAME:PDT
END:DAYLIGHT
BEGIN:STANDARD
DTSTART:20251102T010000
TZOFFSETFROM:-0700
TZOFFSETTO:-0800
TZNAME:PST
END:STANDARD
BEGIN:DAYLIGHT
DTSTART:20260308T030000
TZOFFSETFROM:-0800
TZOFFSETTO:-0700
TZNAME:PDT
END:DAYLIGHT
BEGIN:STANDARD
DTSTART:20261101T010000
TZOFFSETFROM:-0700
TZOFFSETTO:-0800
TZNAME:PST
END:STANDARD
BEGIN:DAYLIGHT
DTSTART:20270314T030000
TZOFFSETFROM:-0800
TZOFFSETTO:-0700
TZNAME:PDT
END:DAYLIGHT
END:VTIMEZONE
END:VCALENDAR