BEGIN:VCALENDAR
VERSION:2.0
PRODID:-//wp-events-plugin.com//7.2.3.1//EN
TZID:America/Los_Angeles
X-WR-TIMEZONE:America/Los_Angeles
BEGIN:VEVENT
UID:364@lternet.edu
DTSTART;TZID=America/Los_Angeles:20260325T090000
DTEND;TZID=America/Los_Angeles:20260325T100000
DTSTAMP:20260325T183846Z
URL:https://lternet.edu/events/lter-synthesis-opportunity-informational-we
 binar/
SUMMARY:LTER Synthesis Opportunity Informational Webinar
DESCRIPTION:An overview of LTER's 2026 synthesis request for synthesis prop
 osals\, including the application and selection process\, types of support
  available\, and an opportunity to ask questions and make connections.
ATTACH;FMTTYPE=image/jpeg:https://lternet.edu/wp-content/uploads/LTER-Synt
 hesis-Opportunity-Informational-Webinar.png
CATEGORIES:Synthesis RFP Informational Webinar
LOCATION:https://youtu.be/nvJCetzmH0I
END:VEVENT
BEGIN:VTIMEZONE
TZID:America/Los_Angeles
X-LIC-LOCATION:America/Los_Angeles
BEGIN:DAYLIGHT
DTSTART:20260308T030000
TZOFFSETFROM:-0800
TZOFFSETTO:-0700
TZNAME:PDT
END:DAYLIGHT
END:VTIMEZONE
END:VCALENDAR